BEGIN:VCALENDAR
VERSION:2.0
PRODID:-//Dakota Territory Buffalo Association - ECPv6.15.20//NONSGML v1.0//EN
CALSCALE:GREGORIAN
METHOD:PUBLISH
X-WR-CALNAME:Dakota Territory Buffalo Association
X-ORIGINAL-URL:https://www.dakotabuffalo.com
X-WR-CALDESC:Events for Dakota Territory Buffalo Association
REFRESH-INTERVAL;VALUE=DURATION:PT1H
X-Robots-Tag:noindex
X-PUBLISHED-TTL:PT1H
BEGIN:VTIMEZONE
TZID:America/Chicago
BEGIN:DAYLIGHT
TZOFFSETFROM:-0600
TZOFFSETTO:-0500
TZNAME:CDT
DTSTART:20210314T080000
END:DAYLIGHT
BEGIN:STANDARD
TZOFFSETFROM:-0500
TZOFFSETTO:-0600
TZNAME:CST
DTSTART:20211107T070000
END:STANDARD
BEGIN:DAYLIGHT
TZOFFSETFROM:-0600
TZOFFSETTO:-0500
TZNAME:CDT
DTSTART:20220313T080000
END:DAYLIGHT
BEGIN:STANDARD
TZOFFSETFROM:-0500
TZOFFSETTO:-0600
TZNAME:CST
DTSTART:20221106T070000
END:STANDARD
BEGIN:DAYLIGHT
TZOFFSETFROM:-0600
TZOFFSETTO:-0500
TZNAME:CDT
DTSTART:20230312T080000
END:DAYLIGHT
BEGIN:STANDARD
TZOFFSETFROM:-0500
TZOFFSETTO:-0600
TZNAME:CST
DTSTART:20231105T070000
END:STANDARD
END:VTIMEZONE
BEGIN:VEVENT
DTSTART;VALUE=DATE:20220217
DTEND;VALUE=DATE:20220221
DTSTAMP:20260423T122238
CREATED:20210423T172930Z
LAST-MODIFIED:20220112T153706Z
UID:2655-1645056000-1645401599@www.dakotabuffalo.com
SUMMARY:DTBA 2022 Winter Conference
DESCRIPTION:We are getting excited about The Dakota Territory Buffalo Association’s 2022 Winter Conference in Rapid City\, to be held from February 17th-20th. The theme this year is “Data Driven”\, and tickets are $175 per person. Please take a moment to review the tentative agenda below\, and don’t delay in registering for our annual capstone event. \nThere are two ways to register. The quickest and easiest way is to register online with your membership login information. Alternatively\, you can download and print a registration form. Simply fill it out and send it in\, with your payment\, to: \nDTBA\nPO Box 1315\nRapid City\, SD 57709 \nDownload Registration Form\nRegister Online\nPlease note that\, while we are holding online registration open until February 8th\, mail-in forms must be postmarked by February 5th. There will be a $30 late fee for anyone registering after the deadline\, and meals cannot be guaranteed at that time\, so please register soon! \nFinally\, if you haven’t already\, don’t wait until the last minute to book your rooms for the conference at the Courtyard by Marriott. The DTBA rate and availability can only be guaranteed until January 18th\, so please call 605-791-0945 and ask for the Dakota Territory Room Block\, or click here to make your reservation online. \nHotel Reservation\nThe Annual Winter Conference really is our premier event of the year\, and it is the strong support of our membership that makes it a fun and informative weekend. We appreciate you all\, and we hope to see all of you again this February! \n \nTENTATIVE WINTER CONFERENCE AGENDA\nFRIDAY\, FEBRUARY 18 – SATURDAY\, FEBRUARY 19\, 2022 \nTHURSDAY\, FEBRUARY 17th\n5:30   RECEPTION AT PRAIRIE EDGE \nFRIDAY\, FEBRUARY 18th\n 8:00    CONSIGNOR MEETING\n9:30    REGISTRATION\n10:00   UPDATE FROM NBA – DAVE CARTER\, EXECUTIVE DIRECTOR\n10:30   NATIONAL BUFFALO MUSEUM – ILANA XINOS\n11:00   INTER-TRIBAL BUFFALO COUNCIL-MIKE FAITH\, VP & TROY HEINERT\, EXEC. DIRECTOR\n12:00   LUNCH\n1- 3     PERFORMANCE LIVESTOCK ANALYTICS\n5:00     SOCIAL\n5:30     BANQUET\n6:30     BISON BINGO & FUN AUCTION \nSATURDAY\, FEBRUARY 19th\n  8:00   BUSINESS MEETING & ELECTION\n10:00   BISON CENTER OF EXCELLENCE – DR. JEFF MARTIN\n11:00   DR. MENDELL MILLER\, ASSISTANT STATE VETERINARIAN\n12:00   LUNCH\n1-3       HERD DOGG – MELISSA BRANDAO\n3:00     VISIT ANIMALS AT FAIRGROUNDS\n5:00     SOCIAL & BIDDER REGISTRATION START\n5:30     BANQUET\n6:00     RAFFLE DRAWING & YOUNG GUNS TROPHY PRESENTATION\n6:30     BLACK HILLS BUFFALO CLASSIC ANIMAL VIDEO AUCTION
URL:https://www.dakotabuffalo.com/event/dtba-2022-winter-conference/
LOCATION:Courtyard by Marriott\, 580 WaTiki Way Box Elder\, Rapid City\, SD\, 57719\, United States
CATEGORIES:Annual Conference,Bison,Education,Show & Sale
ATTACH;FMTTYPE=image/jpeg:https://www.dakotabuffalo.com/wp-content/uploads/2019/08/DTBA-Thumb-square.jpg
ORGANIZER;CN="Dakota Territory Buffalo Association":MAILTO:info@dakotabuffalo.com
END:VEVENT
END:VCALENDAR